BEGIN:VCALENDAR
VERSION:2.0
PRODID:-//Contratero//ES
CALSCALE:GREGORIAN
METHOD:PUBLISH
BEGIN:VEVENT
UID:EXPTE. 43/2023@contratero.es
DTSTAMP:20260425T195534Z
DTSTART:20230511T235959
DTEND:20230512T005959
SUMMARY:Cierre: Contrato de suministro (por lotes) de “Equipamient
DESCRIPTION:Contrato de suministro (por lotes) de “Equipamiento informático para el Ayto. de Bailén”\\n\\nOrganismo: Alcaldía del Ayuntamiento de Bailén\\n\\nVer en Contratero: https://contratero.es/contracts/EXPTE. 43/2023
URL:https://contratero.es/contracts/EXPTE. 43/2023
STATUS:CONFIRMED
BEGIN:VALARM
TRIGGER:-P1D
ACTION:DISPLAY
DESCRIPTION:Recordatorio: Contrato de suministro (por lo
END:VALARM
END:VEVENT
END:VCALENDAR